BEGIN:VCALENDAR
VERSION:2.0
PRODID:-//ChamberMaster//Event Calendar 2.0//EN
METHOD:PUBLISH
X-PUBLISHED-TTL:P3D
REFRESH-INTERVAL:P3D
CALSCALE:GREGORIAN
BEGIN:VEVENT
DTSTART:20240118T200000Z
DTEND:20240118T210000Z
X-MICROSOFT-CDO-ALLDAYEVENT:FALSE
SUMMARY:All Hands Whatcom - Virtual Learning Opportunities
DESCRIPTION:Introducing WRIC & www.whatcomresources.org\n\nParticipants will learn about the newly formed WRIC\, how to utilize it\, and future plans.
X-ALT-DESC;FMTTYPE=text/html:Introducing WRIC &amp\; www.whatcomresources.org<br />\nParticipants will learn about the newly formed WRIC\, how to utilize it\, and future plans.
LOCATION:VIRTUAL OPPORTUNITY Please Visit: allhandswhatcom.org
UID:e.2940.3176
SEQUENCE:3
DTSTAMP:20260421T125124Z
URL:http://birchbaywa.chambermaster.com/events/details/all-hands-whatcom-virtual-learning-opportunities-3176
END:VEVENT

END:VCALENDAR
