BEGIN:VCALENDAR
VERSION:2.0
PRODID:-//ChamberMaster//Event Calendar 2.0//EN
METHOD:PUBLISH
X-PUBLISHED-TTL:P3D
REFRESH-INTERVAL:P3D
CALSCALE:GREGORIAN
BEGIN:VEVENT
DTSTART:20240222T020000Z
DTEND:20240222T030000Z
X-MICROSOFT-CDO-ALLDAYEVENT:FALSE
SUMMARY:All Hands Whatcom - Virtual Learning Opportunities
DESCRIPTION:Parenting: Surviving the teen years\n\nLearn skills and simple actions to support youth and reduce risk of substance abuse.
X-ALT-DESC;FMTTYPE=text/html:Parenting: Surviving the teen years<br />\nLearn skills and simple actions to support youth and reduce risk of substance abuse.
LOCATION:VIRTUAL OPPORTUNITY Please Visit: allhandswhatcom.org
UID:e.2940.3178
SEQUENCE:3
DTSTAMP:20260419T122110Z
URL:http://birchbaywa.chambermaster.com/events/details/all-hands-whatcom-virtual-learning-opportunities-3178
END:VEVENT

END:VCALENDAR
