BEGIN:VCALENDAR
VERSION:2.0
PRODID:-//ChamberMaster//Event Calendar 2.0//EN
METHOD:PUBLISH
X-PUBLISHED-TTL:P3D
REFRESH-INTERVAL:P3D
CALSCALE:GREGORIAN
BEGIN:VEVENT
DTSTART:20240106T150000Z
DTEND:20240106T160000Z
X-MICROSOFT-CDO-ALLDAYEVENT:FALSE
SUMMARY:Annual Tree Pick Up
DESCRIPTION:Annual Tree Pick Up\n\nTrees must be out by 8am!
X-ALT-DESC;FMTTYPE=text/html:Annual Tree Pick Up<br />\nTrees must be out by 8am!<br />\n&nbsp\;
LOCATION:Sponsored by Troop 4026
UID:e.2940.3194
SEQUENCE:3
DTSTAMP:20260420T215814Z
URL:http://birchbaywa.chambermaster.com/events/details/annual-tree-pick-up-3194
END:VEVENT

END:VCALENDAR
