BEGIN:VCALENDAR
VERSION:2.0
PRODID:-//ChamberMaster//Event Calendar 2.0//EN
METHOD:PUBLISH
X-PUBLISHED-TTL:P3D
REFRESH-INTERVAL:P3D
CALSCALE:GREGORIAN
BEGIN:VEVENT
DTSTART:20240412T033000Z
DTEND:20240412T043000Z
X-MICROSOFT-CDO-ALLDAYEVENT:FALSE
SUMMARY:Beach Cat Comedy Night
DESCRIPTION:Comedy Night in Birch Bay? Yes please! Enjoy a brewski and jokes at Beach Cat Brewing starting at 8:30pm
X-ALT-DESC;FMTTYPE=text/html:Comedy Night in Birch Bay? Yes please! Enjoy a brewski and jokes at Beach Cat Brewing starting at 8:30pm
LOCATION:Beach Cat Brewing 7876 Birch Bay Dr #101\, Blaine\, WA 98230
UID:e.2940.4174
SEQUENCE:3
DTSTAMP:20260421T215715Z
URL:http://birchbaywa.chambermaster.com/events/details/beach-cat-comedy-night-4174
END:VEVENT

END:VCALENDAR
