BEGIN:VCALENDAR
VERSION:2.0
PRODID:-//ChamberMaster//Event Calendar 2.0//EN
METHOD:PUBLISH
X-PUBLISHED-TTL:P3D
REFRESH-INTERVAL:P3D
CALSCALE:GREGORIAN
BEGIN:VEVENT
DTSTART:20231118T220000Z
DTEND:20231119T020000Z
X-MICROSOFT-CDO-ALLDAYEVENT:FALSE
SUMMARY:C Shop Open
DESCRIPTION:Secure your favorites and quantities by shopping online\, and indicating you will pick up in store.
X-ALT-DESC;FMTTYPE=text/html:<span style="caret-color: rgb(0\, 0\, 0)\; color: rgb(0\, 0\, 0)\; font-family: Calibri\, sans-serif\; font-size: 14.666667px\;">Secure your favorites and quantities by shopping online\, and indicating you will pick up in store.</span>
LOCATION:4825 Alderson Road Birch Bay\, Blaine\, WA 98230
UID:e.2940.3081
SEQUENCE:3
DTSTAMP:20260426T020910Z
URL:http://birchbaywa.chambermaster.com/events/details/c-shop-open-3081
END:VEVENT

END:VCALENDAR
