BEGIN:VCALENDAR
VERSION:2.0
PRODID:-//ChamberMaster//Event Calendar 2.0//EN
METHOD:PUBLISH
X-PUBLISHED-TTL:P3D
REFRESH-INTERVAL:P3D
CALSCALE:GREGORIAN
BEGIN:VEVENT
DTSTART:20240611T010000Z
DTEND:20240611T023000Z
X-MICROSOFT-CDO-ALLDAYEVENT:FALSE
SUMMARY:Community Engagement Session
DESCRIPTION:All are welcome to meet the design team for the new Birch Bay Vogt Library and share feedback on floor plans\, color schemes\, and look forward to seeing you there!!
X-ALT-DESC;FMTTYPE=text/html:All are welcome to meet the design team for the new Birch Bay Vogt Library and share feedback on floor plans\, color schemes\, and look forward to seeing you there!!
LOCATION:Home of the future Birch Bay Vogt Library Express 7948 Birch Bay Dr
UID:e.2940.4667
SEQUENCE:3
DTSTAMP:20260420T163017Z
URL:http://birchbaywa.chambermaster.com/events/details/community-engagement-session-4667
END:VEVENT

END:VCALENDAR
