BEGIN:VCALENDAR
VERSION:2.0
PRODID:-//ChamberMaster//Event Calendar 2.0//EN
METHOD:PUBLISH
X-PUBLISHED-TTL:P3D
REFRESH-INTERVAL:P3D
CALSCALE:GREGORIAN
BEGIN:VEVENT
DTSTART:20240323T200000Z
DTEND:20240323T220000Z
X-MICROSOFT-CDO-ALLDAYEVENT:FALSE
SUMMARY:Easter Egg Hunt
DESCRIPTION:Kids 10 and under can hunt candy-filled Easter eggs. Refreshments and photos with the Easter Bunny.
X-ALT-DESC;FMTTYPE=text/html:Kids 10 and under can hunt candy-filled Easter eggs. Refreshments and photos with the Easter Bunny.
LOCATION:American Legion Post 86 4580 Legion Dr. Blaine
UID:e.2940.4143
SEQUENCE:3
DTSTAMP:20260421T074438Z
URL:http://birchbaywa.chambermaster.com/events/details/easter-egg-hunt-4143
END:VEVENT

END:VCALENDAR
