BEGIN:VCALENDAR
VERSION:2.0
PRODID:-//ChamberMaster//Event Calendar 2.0//EN
METHOD:PUBLISH
X-PUBLISHED-TTL:P3D
REFRESH-INTERVAL:P3D
CALSCALE:GREGORIAN
BEGIN:VEVENT
DTSTART:20240214T010000Z
DTEND:20240214T030000Z
X-MICROSOFT-CDO-ALLDAYEVENT:FALSE
SUMMARY:Line Dancing at Birch Bay Activity Center
DESCRIPTION:Line dancing for all skill levels.\n\nHosted by Blaine-Birch Bay Parks & Recreation
X-ALT-DESC;FMTTYPE=text/html:Line dancing for all skill levels.<br />\nHosted by Blaine-Birch Bay Parks &amp\; Recreation
LOCATION:Birch Bay Activity Center 7511 Gemini Street Blaine\, WA
UID:e.2940.3232
SEQUENCE:3
DTSTAMP:20260422T120753Z
URL:http://birchbaywa.chambermaster.com/events/details/line-dancing-at-birch-bay-activity-center-3232
END:VEVENT

END:VCALENDAR
