BEGIN:VCALENDAR
VERSION:2.0
PRODID:-//ChamberMaster//Event Calendar 2.0//EN
METHOD:PUBLISH
X-PUBLISHED-TTL:P3D
REFRESH-INTERVAL:P3D
CALSCALE:GREGORIAN
BEGIN:VEVENT
DTSTART:20240324T170000Z
DTEND:20240324T180000Z
X-MICROSOFT-CDO-ALLDAYEVENT:FALSE
SUMMARY:Palm Sunday Easter Service
DESCRIPTION:Come Alive at North Bay Community Church! Palm Sunday Service
X-ALT-DESC;FMTTYPE=text/html:Come Alive at North Bay Community Church! Palm Sunday Service
LOCATION:North Bay Community Church (Across from the waterslides) Birch Bay
UID:e.2940.4164
SEQUENCE:3
DTSTAMP:20260422T180233Z
URL:http://birchbaywa.chambermaster.com/events/details/palm-sunday-easter-service-4164
END:VEVENT

END:VCALENDAR
