BEGIN:VCALENDAR
VERSION:2.0
PRODID:-//ChamberMaster//Event Calendar 2.0//EN
METHOD:PUBLISH
X-PUBLISHED-TTL:P3D
REFRESH-INTERVAL:P3D
CALSCALE:GREGORIAN
BEGIN:VEVENT
DTSTART:20240323T200000Z
DTEND:20240323T223000Z
X-MICROSOFT-CDO-ALLDAYEVENT:FALSE
SUMMARY:PARKS & REC - BABYSITTING CLASS
DESCRIPTION:LEARN THE BASICS OF BABYSITTING & CAREGIVING SKILLS\; PRIMARILY FOR TEENS WHO ARE PLANNING TO PROVIDE BABYSITTING SERVICES FOR INFANTS AND YOUNG CHILDREN.
X-ALT-DESC;FMTTYPE=text/html:LEARN THE BASICS OF BABYSITTING &amp\; CAREGIVING SKILLS\; PRIMARILY FOR TEENS WHO ARE PLANNING TO PROVIDE BABYSITTING SERVICES FOR INFANTS AND YOUNG CHILDREN.
LOCATION:BIRCH BAY ACTIVITY CENTER 7511 GEMINI ST BLAINE
UID:e.2940.3248
SEQUENCE:3
DTSTAMP:20260420T052354Z
URL:http://birchbaywa.chambermaster.com/events/details/parks-rec-babysitting-class-3248
END:VEVENT

END:VCALENDAR
