BEGIN:VCALENDAR
VERSION:2.0
PRODID:-//ChamberMaster//Event Calendar 2.0//EN
METHOD:PUBLISH
X-PUBLISHED-TTL:P3D
REFRESH-INTERVAL:P3D
CALSCALE:GREGORIAN
BEGIN:VEVENT
DTSTART:20231028T003000Z
DTEND:20231028T033000Z
X-MICROSOFT-CDO-ALLDAYEVENT:FALSE
SUMMARY:Peace Builder Awards 2023
DESCRIPTION:Save the Date! You are invited to the 20th Annual Peace Builder Awards\, presented by Whatcom Dispute Resolution Center. The evening will highlight our 2023 Peace Builder award winners\, whose work in the areas of Social Justice\, Education\, Reconciliation\, and Collaboration have made Whatcom County a more just and peaceful place to live. Additionally\, we will hear beautiful and moving readings from our Youth Peace Poetry winners! The Peace Builder Awards have spotlighted over 150 individuals and organizations since 2003\, whose remarkable acts of community-building have strengthened our neighborhoods\, schools\, and Whatcom County at large. The Peace Builder Awards also serves as a core fundraising event\, to support WDRC's full range of conflict prevention and intervention services for individuals\, families\, organizations\, and businesses. ATTEND THE EVENT (Tickets will go on sale this summer\, please sign up for our mailing list to be notified once they are available): bit.ly/WDRCSignUp NOMINATE A PEACE BUILDER (Now thru July 7) : whatcomdrc.org/nominate SUBMIT A YOUTH POETRY ENTRY (Now thru Sept 22): whatcomdrc.org/youth-peace-poetry-contest PEACE BUILDER AWARDS WEBPAGE: whatcomdrc.org/peace-builder-awards
X-ALT-DESC;FMTTYPE=text/html:Save the Date! You are invited to the 20th Annual Peace Builder Awards\, presented by Whatcom Dispute Resolution Center. The evening will highlight our 2023 Peace Builder award winners\, whose work in the areas of Social Justice\, Education\, Reconciliation\, and Collaboration have made Whatcom County a more just and peaceful place to live. Additionally\, we will hear beautiful and moving readings from our Youth Peace Poetry winners! The Peace Builder Awards have spotlighted over 150 individuals and organizations since 2003\, whose remarkable acts of community-building have strengthened our neighborhoods\, schools\, and Whatcom County at large. The Peace Builder Awards also serves as a core fundraising event\, to support WDRC&rsquo\;s full range of conflict prevention and intervention services for individuals\, families\, organizations\, and businesses. ATTEND THE EVENT (Tickets will go on sale this summer\, please sign up for our mailing list to be notified once they are available): bit.ly/WDRCSignUp NOMINATE A PEACE BUILDER (Now thru July 7) : whatcomdrc.org/nominate SUBMIT A YOUTH POETRY ENTRY (Now thru Sept 22): whatcomdrc.org/youth-peace-poetry-contest PEACE BUILDER AWARDS WEBPAGE: whatcomdrc.org/peace-builder-awards
LOCATION:Four Points by Sheraton\, 714 Lakeway Dr\, Bellingham\, WA 98229
UID:e.2940.2815
SEQUENCE:3
DTSTAMP:20260426T020910Z
URL:http://birchbaywa.chambermaster.com/events/details/peace-builder-awards-2023-2815
END:VEVENT

END:VCALENDAR
