BEGIN:VCALENDAR
VERSION:2.0
PRODID:-//ChamberMaster//Event Calendar 2.0//EN
METHOD:PUBLISH
X-PUBLISHED-TTL:P3D
REFRESH-INTERVAL:P3D
CALSCALE:GREGORIAN
BEGIN:VEVENT
DTSTART:20240629T030000Z
DTEND:20240629T050000Z
X-MICROSOFT-CDO-ALLDAYEVENT:FALSE
SUMMARY:SAM MILLER @ STATION 49
DESCRIPTION:Sam Miller - Comedian
X-ALT-DESC;FMTTYPE=text/html:<span style="font-size:14px\;">Sam Miller - Comedian&nbsp\;&nbsp\;&nbsp\;&nbsp\;&nbsp\;</span>
LOCATION:Station 49 4620 Birch Bay-Lynden Road\, Birch Bay\, WA\, United States
UID:e.2940.4701
SEQUENCE:3
DTSTAMP:20260422T111758Z
URL:http://birchbaywa.chambermaster.com/events/details/sam-miller-station-49-4701
END:VEVENT

END:VCALENDAR
