BEGIN:VCALENDAR
VERSION:2.0
PRODID:-//ChamberMaster//Event Calendar 2.0//EN
METHOD:PUBLISH
X-PUBLISHED-TTL:P3D
REFRESH-INTERVAL:P3D
CALSCALE:GREGORIAN
BEGIN:VEVENT
DTSTART:20230902T170000Z
DTEND:20230902T190000Z
X-MICROSOFT-CDO-ALLDAYEVENT:FALSE
SUMMARY:State Park Summer Program - hosted by Friends
DESCRIPTION:Birch Bay State Park Summer Program Hosted by friends. Come learn all about Bees
X-ALT-DESC;FMTTYPE=text/html:<span style="font-size:22px\;">Birch Bay State Park Summer Program Hosted by friends. Come learn all about Bees</span>
LOCATION:Meet BP Heron Center 7290 Birch Bay Drive\, Birch Bay\, WA\, United States\, Washington
UID:e.2940.2877
SEQUENCE:3
DTSTAMP:20260426T021012Z
URL:http://birchbaywa.chambermaster.com/events/details/state-park-summer-program-hosted-by-friends-2877
END:VEVENT

END:VCALENDAR
