BEGIN:VCALENDAR
VERSION:2.0
PRODID:-//ChamberMaster//Event Calendar 2.0//EN
METHOD:PUBLISH
X-PUBLISHED-TTL:P3D
REFRESH-INTERVAL:P3D
CALSCALE:GREGORIAN
BEGIN:VEVENT
DTSTART;VALUE=DATE:20231223
DTEND;VALUE=DATE:20231225
TRANSP:TRANSPARENT
X-MICROSOFT-CDO-ALLDAYEVENT:TRUE
SUMMARY:Visitor Information Center Closed
DESCRIPTION:BBCC & Visitor Information Center will be closed for Christmas Eve
X-ALT-DESC;FMTTYPE=text/html:BBCC &amp\; Visitor Information Center will be closed for Christmas Eve&nbsp\;&nbsp\;&nbsp\;&nbsp\;
LOCATION:
UID:e.2940.3155
SEQUENCE:3
DTSTAMP:20260422T235416Z
URL:http://birchbaywa.chambermaster.com/events/details/visitor-information-center-closed-3155
END:VEVENT

END:VCALENDAR
