BEGIN:VCALENDAR
VERSION:2.0
PRODID:-//ChamberMaster//Event Calendar 2.0//EN
METHOD:PUBLISH
X-PUBLISHED-TTL:P3D
REFRESH-INTERVAL:P3D
CALSCALE:GREGORIAN
BEGIN:VEVENT
DTSTART;VALUE=DATE:20240213
DTEND;VALUE=DATE:20240214
TRANSP:TRANSPARENT
X-MICROSOFT-CDO-ALLDAYEVENT:TRUE
SUMMARY:VOTING DAY
DESCRIPTION:VOTE TO KEEP OUR BIRCH BAY / BLAINE PARKS AND RECREATION PROGRAMS!
X-ALT-DESC;FMTTYPE=text/html:VOTE TO KEEP OUR BIRCH BAY / BLAINE PARKS AND RECREATION PROGRAMS!
LOCATION:
UID:e.2940.3193
SEQUENCE:3
DTSTAMP:20260420T044029Z
URL:http://birchbaywa.chambermaster.com/events/details/voting-day-3193
END:VEVENT

END:VCALENDAR
